View In:
ArcGIS JavaScript
ArcGIS Online Map Viewer
ArcGIS Earth
Service Description: OGCD/BTW_GRID
Name: OGCD/BTW_GRID
Description:
Single Fused Map Cache: false
Extent:
XMin: -103.00327169197364
YMin: 33.61539755549744
XMax: -94.43104286237364
YMax: 37.00251905149744
Spatial Reference: 4326
(4326)
Initial Extent:
XMin: -103.00327169197364
YMin: 33.61539755549744
XMax: -94.43104286237364
YMax: 37.00251905149744
Spatial Reference: 4326
(4326)
Full Extent:
XMin: -103.00327169197364
YMin: 33.61539755549744
XMax: -94.43104286237364
YMax: 37.00251905149744
Spatial Reference: 4326
(4326)
Pixel Size X: 0.0013387831999999988
Pixel Size Y: 0.0013387831999999995
Band Count: 1
Pixel Type: F32
RasterFunction Infos: {"rasterFunctionInfos": [{
"help": "",
"name": "None",
"description": ""
}]}
Mensuration Capabilities: Basic
Inspection Capabilities:
Has Histograms: true
Has Colormap: false
Has Multi Dimensions : false
Rendering Rule:
Min Scale: 0
Max Scale: 0
Copyright Text:
Service Data Type: esriImageServiceDataTypeGeneric
Min Values: -83972.5703125
Max Values: 8995.25
Mean Values: 281.6201862216173
Standard Deviation Values: 1645.6055887237501
Object ID Field:
Fields:
None
Default Mosaic Method: Center
Allowed Mosaic Methods:
SortField:
SortValue: N/A
Mosaic Operator: First
Default Compression Quality: 75
Default Resampling Method: Bilinear
Max Record Count: null
Max Image Height: 4100
Max Image Width: 15000
Max Download Image Count: null
Max Mosaic Image Count: null
Allow Raster Function: true
Allow Copy: true
Allow Analysis: true
Allow Compute TiePoints: false
Supports Statistics: false
Supports Advanced Queries: false
Use StandardizedQueries: false
Raster Type Infos:
Name: Raster Dataset
Description: Supports all ArcGIS Raster Datasets
Help:
Has Raster Attribute Table: false
Edit Fields Info: N/A
Ownership Based AccessControl For Rasters: N/A
Child Resources:
Info
Histograms
Statistics
Key Properties
Legend
Raster Function Infos
Supported Operations:
Export Image
Identify
Measure
Compute Histograms
Compute Statistics Histograms
Get Samples
Compute Class Statistics
Query Boundary
Compute Pixel Location
Compute Angles
Validate
Project