View In:
ArcGIS JavaScript
ArcGIS Online Map Viewer
ArcGIS Earth
Service Description: PUBLIC/BTW_GRID_UPDATED
Name: PUBLIC/BTW_GRID_UPDATED
Description:
Single Fused Map Cache: false
Extent:
XMin: -103.00327169197399
YMin: 33.6153975554974
XMax: -94.431042862374
YMax: 37.0025190514974
Spatial Reference: 4326
(4326)
Initial Extent:
XMin: -103.00327169197399
YMin: 33.6153975554974
XMax: -94.431042862374
YMax: 37.0025190514974
Spatial Reference: 4326
(4326)
Full Extent:
XMin: -103.00327169197399
YMin: 33.6153975554974
XMax: -94.431042862374
YMax: 37.0025190514974
Spatial Reference: 4326
(4326)
Pixel Size X: 0.0013387831999999988
Pixel Size Y: 0.0013387831999999995
Band Count: 1
Pixel Type: F32
RasterFunction Infos: {"rasterFunctionInfos": [{
"help": "",
"name": "None",
"description": ""
}]}
Mensuration Capabilities: Basic
Inspection Capabilities:
Has Histograms: true
Has Colormap: false
Has Multi Dimensions : false
Rendering Rule:
Min Scale: 0
Max Scale: 0
Copyright Text:
Service Data Type: esriImageServiceDataTypeGeneric
Min Values: 31.268474578857422
Max Values: 2360.197998046875
Mean Values: 431.29507557391435
Standard Deviation Values: 282.35998741720681
Object ID Field:
Fields:
None
Default Mosaic Method: Center
Allowed Mosaic Methods:
SortField:
SortValue: N/A
Mosaic Operator: First
Default Compression Quality: 75
Default Resampling Method: Bilinear
Max Record Count: null
Max Image Height: 4100
Max Image Width: 15000
Max Download Image Count: null
Max Mosaic Image Count: null
Allow Raster Function: true
Allow Copy: true
Allow Analysis: true
Allow Compute TiePoints: false
Supports Statistics: false
Supports Advanced Queries: false
Use StandardizedQueries: false
Raster Type Infos:
Name: Raster Dataset
Description: Supports all ArcGIS Raster Datasets
Help:
Has Raster Attribute Table: false
Edit Fields Info: N/A
Ownership Based AccessControl For Rasters: N/A
Child Resources:
Info
Histograms
Statistics
Key Properties
Legend
Raster Function Infos
Supported Operations:
Export Image
Identify
Measure
Compute Histograms
Compute Statistics Histograms
Get Samples
Compute Class Statistics
Query Boundary
Compute Pixel Location
Compute Angles
Validate
Project